BEGIN:VCALENDAR
VERSION:2.0
CALSCALE:GREGORIAN
METHOD:PUBLISH
PRODID://SDCA//516943
BEGIN:VEVENT
DTSTAMP:20260424T042959
VTIMEZONE:America/Chicago
DTSTART:20260710T140000Z
DTEND:20260711T010000Z
UID:516943
SUMMARY:T-Bone Classic Golf Tournament 
LOCATION:Madison Country Club, 45152 233rd St, Madison, SD, 57042
DESCRIPTION:T-Bone Classic Golf Tournament \n\n07/10/26 09:00 AM CST\n - 07/10/26 08:00 PM CST\Description:\nSchedule: \n9:00 AM - Registration Opens\n10:00 AM - Tournament Begins\nEnjoy a T-Bone supper following 18-holes of golf!\n\nRegistration Details: \n$400 (4 Person Team) \nGolf carts provided.\n\nFor questions or to register, contact Paul Miles at 605.321.8412 or Maria Buus 605.480.2517. \n \Location:\nMadison Country Club\n45152 233rd St\nMadison, SD 57042
X-ALT-DESC;FMTTYPE=text/html:T-Bone Classic Golf Tournament <br /><br />07/10/26 09:00 AM CST - 07/10/26 08:00 PM CST<br />Description:<br /><strong>Schedule:&nbsp;</strong><br />
9:00 AM - Registration Opens<br />
10:00 AM - Tournament Begins<br />
Enjoy a T-Bone supper following 18-holes of golf!<br />
<br />
<strong>Registration Details:&nbsp;</strong><br />
$400 (4 Person Team)&nbsp;<br />
Golf carts provided.<br />
<br />
<strong>For questions or to register, contact Paul Miles at 605.321.8412 or Maria Buus 605.480.2517.&nbsp;</strong><br />
&nbsp;<br />Location:<br />Madison Country Club<br />45152 233rd St<br />Madison, SD 57042
PRIORITY:3
TRANSP:TRANSPARENT
BEGIN:VALARM
TRIGGER:-PT5M
ACTION:DISPLAY
DESCRIPTION:Reminder
END:VALARM
END:VEVENT
END:VCALENDAR
